Workbook

Sheet Inicio
E2: RADIOGRADIA REPRODUCTIVA
E4: CERDAS ACTIVAS | G4: 500 | I4: Ingreso tus datos
G6: IDEAL | I6: REAL
F7: Categoria | G7: Cantidad | H7: % | I7: Cantidad | J7: %
E8: DISTRIBUCIÓN | F8: Reemplazos | G8: =G4*H8 -> 30 | H8: 0.06 | I8: 30 | J8: =I8/G4 -> 0.06
F9: Gestantes | G9: =H9*G4 -> 365 | H9: 0.73 | I9: 365 | J9: =I9/G4 -> 0.73
F10: Lactantes | G10: =H10*G4 -> 85 | H10: 0.17 | I10: 85 | J10: =I10/G4 -> 0.17
F11: Vacias | G11: =H11*G4 -> 20 | H11: 0.04 | I11: 20 | J11: =I11/G4 -> 0.04
F12: Total | G12: =SUM(G8:G11) -> 500 | H12: =SUM(H8:H11) -> 1 | I12: =SUM(I8:I11) -> 500 | J12: =SUM(J8:J11) -> 1
G14: Equilibrio de Inventario | J14: =ROUND( 100-( ABS((J8-H8)*100)+ ABS((J9-H9)*100)+ ABS((J10-H10)*100)+ ABS((J11-H11)*100) ),0)&"%" -> 100%
F17: Etapa | G17: Semanas | H17: Días
F18: Gestación | G18: 16 | H18: =G18*7 -> 112
F19: Lactancia | G19: 4 | H19: =G19*7 -> 28
F20: I.D.S | G20: 1 | H20: =G20*7 -> 7
F21: Total Ciclo | G21: =SUM(G18:G20) -> 21 | H21: =SUM(H18:H20) -> 147

Sheet Configuracion Productiva
E1: CONFIGURACIÓN PRODUCTIVA
E3: CERDAS ACTIVAS | F3: 300
E5: Categoria | F5: Ideal | G5: Real | H5: Dif | J5: Lote | K5: Sem | L5: Cerdos | M5: Viab | P5: Lote | Q5: Sem | R5: Cerdos | S5: Viab
E6: Meta de servicios | F6: =F3/Inicio!G21 -> 14.285714 | G6: 14 | H6: =G6-F6 -> -0.28571429 | J6: 6 | K6: =K7+1 -> 10 | L6: =L11*M6 -> 153.26 | M6: =M7-N6 -> 0.97 | N6: 0.01 | P6: 19 | Q6: =Q7+1 -> 23 | R6: =$F$15*S6 -> 148.52 | S6: =S7 -> 0.94
E7: Tasa de parición | F7: 0.9 | G7: 0.85 | H7: =G7-F7 -> -0.05 | J7: 5 | K7: =K8+1 -> 9 | L7: =L11*M7 -> 154.84 | M7: =M8 -> 0.98 | P7: 18 | Q7: =Q8+1 -> 22 | R7: =$F$15*S7 -> 148.52 | S7: =S8 -> 0.94
E8: Partos semana | F8: =F6*F7 -> 12.857143 | G8: =G6*G7 -> 11.9 | H8: =G8-F8 -> -0.95714286 | J8: 4 | K8: =K9+1 -> 8 | L8: =L11*M8 -> 154.84 | M8: =M9-N8 -> 0.98 | N8: 0.01 | P8: 17 | Q8: =Q9+1 -> 21 | R8: =$F$15*S8 -> 148.52 | S8: =S9 -> 0.94
E9: Media Nacidos Totales | F9: 14.5 | G9: 14 | H9: =G9-F9 -> -0.5 | J9: 3 | K9: =K10+1 -> 7 | L9: =L11*M9 -> 156.42 | M9: =M10 -> 0.99 | P9: 16 | Q9: =Q10+1 -> 20 | R9: =$F$15*S9 -> 148.52 | S9: =S10-T9 -> 0.94 | T9: 0.01
E10: Perdidas al nacimiento | F10: 0.08 | G10: 0.08 | H10: =G10-F10 -> 0 | J10: 2 | K10: =K11+1 -> 6 | L10: =L11*M10 -> 156.42 | M10: =M11-N10 -> 0.99 | N10: 0.01 | P10: 15 | Q10: =Q11+1 -> 19 | R10: =$F$15*S10 -> 150.1 | S10: =S11 -> 0.95
E11: Media Nacidos Vivos | F11: =F9*(1-F10) -> 13.34 | G11: =G9*(1-G10) -> 12.88 | H11: =G11-F11 -> -0.46 | J11: 1 | K11: 5 | L11: =F15 -> 158 | M11: =L11/$F$15 -> 1 | P11: 14 | Q11: =Q12+1 -> 18 | R11: =$F$15*S11 -> 150.1 | S11: =S12 -> 0.95
E12: Media Navidos Vivos por mes | F12: =(F11*F8)*52/12 -> 743.22857 | G12: =(G11*G8)*52/12 -> 664.17867 | H12: =G12-F12 -> -79.049905 | J12: Inv Ideal | L12: =SUM(L6:L11) -> 933.78 | P12: 13 | Q12: =Q13+1 -> 17 | R12: =$F$15*S12 -> 150.1 | S12: =S13 -> 0.95
E13: %Mortalidad Pre Destete | F13: 0.08 | G13: 0.1 | H13: =G13-F13 -> 0.02 | J13: Inv Real | L13: 934 | P13: 12 | Q13: =Q14+1 -> 16 | R13: =$F$15*S13 -> 150.1 | S13: =S14-T13 -> 0.95 | T13: 0.01
E14: Media Destetados por mes | F14: =F12*(1-F13) -> 683.77029 | G14: =G12*(1-G13) -> 597.7608 | H14: =G14-F14 -> -86.009486 | P14: 11 | Q14: =Q15+1 -> 15 | R14: =$F$15*S14 -> 151.68 | S14: =S15 -> 0.96
E15: Media Destetados por semana | F15: =ROUND((VALUE(F14)*12)/52, 0) -> 158 | G15: =(G14*12)/52 -> 137.9448 | H15: =G15-F15 -> -20.0552 | P15: 10 | Q15: =Q16+1 -> 14 | R15: =$F$15*S15 -> 151.68 | S15: =S16 -> 0.96
P16: 9 | Q16: =Q17+1 -> 13 | R16: =$F$15*S16 -> 151.68 | S16: =S17-T16 -> 0.96 | T16: 0.01
E17: Eficiencia de Destete | F17: =G15/F15 -> 0.87306835 | P17: 8 | Q17: =Q18+1 -> 12 | R17: =$F$15*S17 -> 153.26 | S17: =S18 -> 0.97
P18: 7 | Q18: =K6+1 -> 11 | R18: =$F$15*S18 -> 153.26 | S18: =M6 -> 0.97
E19: Potencial ventas mensual | F19: =ROUND(ABS(VALUE(R6)*52/12), 0) -> 644 | G19: Ideal | P19: Inv Ideal | R19: =SUM(R6:R18) -> 1956.04
E20: Ventas del mes | F20: 630 | G20: Real | P20: Inv Real | R20: 1956
E21: Eficiencia | F21: =F20/F19 -> 0.97826087
E22: Utilidad Estimada por cerdo | F22: 50 | G22: USD
E23: Diferencia en utilidad mensual | F23: =(F20-F19)*F22 -> -700

Sheet Rad Inv Reproductivo
B1: RADIOGRAFIA DEL INVENTARIO REPRODUCTIVO | Y1: 1
Y2: 0
Y3: 0
Y4: =Y1+Y2+Y3 -> 1
B7: EQUILIBRIO REPRODUCTIVO | J7: =Inicio!J14 -> 100% | L7: =IF(VALUE(J7)>=0.9, "ÓPTIMO", IF(VALUE(J7)>=0.85, "ACEPTABLE", "DEFICIENTE")) -> ÓPTIMO | O7: =IF(L7="ÓPTIMO","🟢",IF(L7="ACEPTABLE","🟡","🔴")) -> 🟢
B11: REEMPLAZOS | F11: GESTANTES | J11: LACTANTES | N11: VACIAS
B14: INV. IDEAL | D14: =Inicio!H8 -> 0.06 | F14: INV. IDEAL | H14: =Inicio!H9 -> 0.73 | J14: INV. IDEAL | L14: =Inicio!H10 -> 0.17 | N14: INV. IDEAL | P14: =Inicio!H11 -> 0.04
B16: INV. REAL | D16: =Inicio!J8 -> 0.06 | F16: INV. REAL | H16: =Inicio!J9 -> 0.73 | J16: INV. REAL | L16: =Inicio!J10 -> 0.17 | N16: INV. REAL | P16: =Inicio!J11 -> 0.04
B19: =IF(AND(ROUND(VALUE(D16),2)>=0.05, ROUND(VALUE(D16),2)<=0.07), "ÓPTIMO", IF(OR(AND(ROUND(VALUE(D16),2)>=0.04, ROUND(VALUE(D16),2)<0.05), AND(ROUND(VALUE(D16),2)>0.07, ROUND(VALUE(D16),2)<=0.08)), "ACEPTABLE", "DEFICIENTE")) -> ÓPTIMO | D19: =IF(B19="ÓPTIMO","🟢",IF(B19="ACEPTABLE","🟡","🔴")) -> 🟢 | F19: =IF(AND(ROUND(VALUE(H16),2)>=0.72, ROUND(VALUE(H16),2)<=0.74), "ÓPTIMO", IF(OR(AND(ROUND(VALUE(H16),2)>=0.69, ROUND(VALUE(H16),2)<0.72), AND(ROUND(VALUE(H16),2)>0.74, ROUND(VALUE(H16),2)<=0.76)), "ACEPTABLE", "DEFICIENTE")) -> ÓPTIMO | H19: =IF(F19="ÓPTIMO","🟢",IF(F19="ACEPTABLE","🟡","🔴")) -> 🟢 | J19: =IF(AND(ROUND(VALUE(L16),2)>=0.17, ROUND(VALUE(L16),2)<=0.17), "ÓPTIMO", IF(OR(AND(ROUND(VALUE(L16),2)>=0.14, ROUND(VALUE(L16),2)<0.17), AND(ROUND(VALUE(L16),2)>0.17, ROUND(VALUE(L16),2)<=0.2)), "ACEPTABLE", "DEFICIENTE")) -> ÓPTIMO | L19: =IF(J19="ÓPTIMO","🟢",IF(J19="ACEPTABLE","🟡","🔴")) -> 🟢 | N19: =IF(AND(ROUND(VALUE(P16),2)>=0.03, ROUND(VALUE(P16),2)<=0.05), "ÓPTIMO", IF(OR(ROUND(VALUE(P16),2)=0.02, ROUND(VALUE(P16),2)=0.06), "ACEPTABLE", "DEFICIENTE")) -> ÓPTIMO | P19: =IF(N19="ÓPTIMO","🟢",IF(N19="ACEPTABLE","🟡","🔴")) -> 🟢
B22: =IF(B19="ÓPTIMO", "Tu inventario de reemplazos es adecuado para sostener la renovación futura del hato reproductivo.", IF(B19="ACEPTABLE", "El inventario presenta ligeras desviaciones que podrían afectar la estabilidad futura del flujo reproductivo.", "La actual variación en el inventario de reemplazos podría comprometer la renovación futura de cerdas productivas.")) -> Tu inventario de reemplazos es adecuado para sostener la renovación futura del hato reproductivo. | F22: =IF(F19="ÓPTIMO", "Tu inventario de cerdas gestantes es adecuado para sostener el flujo esperado de partos y lechones destetados.", IF(F19="ACEPTABLE", "El inventario gestante presenta ligeras desviaciones que podrían afectar parcialmente el flujo futuro de producción.", "La cantidad actual de cerdas gestantes podría limitar significativamente el flujo futuro de partos y destetes.")) -> Tu inventario de cerdas gestantes es adecuado para sostener el flujo esperado de partos y lechones destetados. | J22: =IF(J19="ÓPTIMO", "Tu inventario de cerdas lactantes es adecuado para sostener el flujo esperado de lechones destetados.", IF(J19="ACEPTABLE", "El inventario lactante presenta ligeras desviaciones que podrían afectar parcialmente el flujo de destetes.", "La cantidad actual de cerdas lactantes podría alterar significativamente el flujo en la producción de lechones destetados.")) -> Tu inventario de cerdas lactantes es adecuado para sostener el flujo esperado de lechones destetados. | N22: =IF(N19="ÓPTIMO", "Tu inventario de cerdas vacías se encuentra dentro de un rango adecuado para sostener la eficiencia reproductiva.", IF(N19="ACEPTABLE", "El inventario de cerdas vacías presenta una desviación moderada que podría afectar parcialmente el flujo productivo.", "La variación extrema de cerdas vacías podría comprometer seriamente la eficiencia reproductiva y la rentabilidad de la granja.")) -> Tu inventario de cerdas vacías se encuentra dentro de un rango adecuado para sostener la eficiencia reproductiva.

Sheet Rad Flujo Productivo
B1: RADIOGRAFIA DEL FLUJO PRODUCTIVO | Y1: 1
Y2: 0
Y3: 0
Y4: =Y1+Y2+Y3 -> 1
B7: EFICIENCIA DE DESTETES | I7: ='Configuracion Productiva'!F17 -> 0.87306835 | L7: =IF(I7>=90%,"ÓPTIMO",IF(I7>=85%,"ACEPTABLE","DEFICIENTE")) -> ACEPTABLE | O7: =IF(L7="ÓPTIMO","🟢",IF(L7="ACEPTABLE","🟡","🔴")) -> 🟡
B11: INVENTARIO CRECIMIENTO | G11: ALERTAS DEL FLUJO PRODUCTIVO | M11: INVENTARIO ENGORDE
G14: CRECIMIENTO | I14: ='Configuracion Productiva'!L13/'Configuracion Productiva'!L12 -> 1.0002356 | J14: =IF(I14>=95%,"🟢",IF(I14>=90%,"🟡","🔴")) -> 🟢
G16: =IF(I14>=95%, "El flujo de crecimiento mantiene una viabilidad adecuada hacia la etapa de engorde.", IF(I14>=90%, "La viabilidad en crecimiento presenta desviaciones moderadas que podrían afectar el flujo posterior.", "La pérdida acumulada en crecimiento podría comprometer significativamente el inventario futuro.")) -> El flujo de crecimiento mantiene una viabilidad adecuada hacia la etapa de engorde.
G20: ENGORDE | I20: ='Configuracion Productiva'!R20/'Configuracion Productiva'!R19 -> 0.99997955 | J20: =IF(I20>=96%,"🟢",IF(I20>=93%,"🟡","🔴")) -> 🟢
G22: =IF(I20>=96%, "El flujo de engorde mantiene una viabilidad adecuada hacia la etapa de comercialización.", IF(I20>=93%, "La viabilidad en engorde presenta desviaciones moderadas que podrían afectar parcialmente el volumen final de venta.", "La pérdida acumulada en engorde podría comprometer significativamente la capacidad comercial de la granja.")) -> El flujo de engorde mantiene una viabilidad adecuada hacia la etapa de comercialización.

Sheet Brecha Potencial Productivo
B1: BRECHA DE POTENCIAL PRODUCTIVO | Y1: 1
Y2: 0
Y3: 0
Y4: =Y1+Y2+Y3 -> 1
B7: POTENCIAL DE VENTAS MENSUAL | J7: ='Configuracion Productiva'!F19 -> 644 | M7: CERDOS
B11: VENTAS IDEAL vs REAL | G11: BRECHA PRODUCTIVA | M11: =IF(M14<0, "POTENCIAL NO CAPTURADO", "EFICIENCIA ECONÓMICA") -> POTENCIAL NO CAPTURADO
G14: ='Configuracion Productiva'!F20-'Configuracion Productiva'!F19 -> -14 | I14: CERDOS | M14: ='Configuracion Productiva'!F23 -> -700
G19: ='Configuracion Productiva'!F21 -> 0.97826087
I20: EFICIENCIA
M21: USD | O21: =IF(M14>=0,"🎯","🚨") -> 🚨
